BEGIN:VCALENDAR
VERSION:2.0
PRODID:-//Aspen Crossing Elementary PTO - ECPv6.15.18//NONSGML v1.0//EN
CALSCALE:GREGORIAN
METHOD:PUBLISH
X-WR-CALNAME:Aspen Crossing Elementary PTO
X-ORIGINAL-URL:https://acepto.ptoffice.io
X-WR-CALDESC:Events for Aspen Crossing Elementary PTO
REFRESH-INTERVAL;VALUE=DURATION:PT1H
X-Robots-Tag:noindex
X-PUBLISHED-TTL:PT1H
BEGIN:VTIMEZONE
TZID:America/Denver
BEGIN:DAYLIGHT
TZOFFSETFROM:-0700
TZOFFSETTO:-0600
TZNAME:MDT
DTSTART:20240310T090000
END:DAYLIGHT
BEGIN:STANDARD
TZOFFSETFROM:-0600
TZOFFSETTO:-0700
TZNAME:MST
DTSTART:20241103T080000
END:STANDARD
BEGIN:DAYLIGHT
TZOFFSETFROM:-0700
TZOFFSETTO:-0600
TZNAME:MDT
DTSTART:20250309T090000
END:DAYLIGHT
BEGIN:STANDARD
TZOFFSETFROM:-0600
TZOFFSETTO:-0700
TZNAME:MST
DTSTART:20251102T080000
END:STANDARD
BEGIN:DAYLIGHT
TZOFFSETFROM:-0700
TZOFFSETTO:-0600
TZNAME:MDT
DTSTART:20260308T090000
END:DAYLIGHT
BEGIN:STANDARD
TZOFFSETFROM:-0600
TZOFFSETTO:-0700
TZNAME:MST
DTSTART:20261101T080000
END:STANDARD
END:VTIMEZONE
BEGIN:VEVENT
DTSTART;TZID=America/Denver:20251119T180000
DTEND;TZID=America/Denver:20251119T200000
DTSTAMP:20260424T093826
CREATED:20250625T214228Z
LAST-MODIFIED:20250625T214537Z
UID:699305-1763575200-1763582400@acepto.ptoffice.io
SUMMARY:Bingo Night
DESCRIPTION:Join us for Bingo on November 19th from 6:00 to 8:00 PM!
URL:https://acepto.ptoffice.io/event/bingo-night/
LOCATION:Aspen Crossing Elementary
CATEGORIES:Bingo
END:VEVENT
BEGIN:VEVENT
DTSTART;VALUE=DATE:20250929
DTEND;VALUE=DATE:20251011
DTSTAMP:20260424T093826
CREATED:20250625T213656Z
LAST-MODIFIED:20250625T213656Z
UID:699299-1759104000-1760140799@acepto.ptoffice.io
SUMMARY:Marmots on the Run
DESCRIPTION:Our annual Marmots on the Run event will take place on October 10th. Fundraising begins on September 29th. Race details are to be determined.
URL:https://acepto.ptoffice.io/event/marmots-on-the-run/
LOCATION:Aspen Crossing Elementary
END:VEVENT
BEGIN:VEVENT
DTSTART;TZID=America/Denver:20250919T150000
DTEND;TZID=America/Denver:20250919T170000
DTSTAMP:20260424T093826
CREATED:20250625T213449Z
LAST-MODIFIED:20250625T213449Z
UID:699297-1758294000-1758301200@acepto.ptoffice.io
SUMMARY:ACE Carnival
DESCRIPTION:Join us on September 19th for our annual ACE Carnival. More details will be announced soon!
URL:https://acepto.ptoffice.io/event/ace-carnival/
LOCATION:Aspen Crossing Elementary
END:VEVENT
BEGIN:VEVENT
DTSTART;TZID=America/Denver:20250904T080000
DTEND;TZID=America/Denver:20250904T140000
DTSTAMP:20260424T093826
CREATED:20250625T213325Z
LAST-MODIFIED:20250625T213325Z
UID:699295-1756972800-1756994400@acepto.ptoffice.io
SUMMARY:Finding Gobi - Author Visit
DESCRIPTION:Author Dion Leonard will visit Aspen Crossing on September 4th to meet with the students and read aloud from Finding Gobi. This event will take place during the school day\, with times to be determined.
URL:https://acepto.ptoffice.io/event/finding-gobi-author-visit/
LOCATION:Aspen Crossing Elementary
END:VEVENT
BEGIN:VEVENT
DTSTART;TZID=America/Denver:20250808T140000
DTEND;TZID=America/Denver:20250808T160000
DTSTAMP:20260424T093826
CREATED:20250625T211627Z
LAST-MODIFIED:20250625T214609Z
UID:699267-1754661600-1754668800@acepto.ptoffice.io
SUMMARY:End of Summer Social - Aug 8th
DESCRIPTION:Join us on August 8th from 2:00 – 4:00 pm during Teacher Meet & Greet.  \nKona Ice will be available to purchase and get your picture with Marty. 
URL:https://acepto.ptoffice.io/event/end-of-summer-social-aug-8th/
LOCATION:Aspen Crossing Elementary
CATEGORIES:Spirit Night
END:VEVENT
END:VCALENDAR