BEGIN:VCALENDAR
VERSION:2.0
PRODID:-//Aspen Crossing Elementary PTO - ECPv6.15.18//NONSGML v1.0//EN
CALSCALE:GREGORIAN
METHOD:PUBLISH
X-ORIGINAL-URL:https://acepto.ptoffice.io
X-WR-CALDESC:Events for Aspen Crossing Elementary PTO
REFRESH-INTERVAL;VALUE=DURATION:PT1H
X-Robots-Tag:noindex
X-PUBLISHED-TTL:PT1H
BEGIN:VTIMEZONE
TZID:America/Denver
BEGIN:DAYLIGHT
TZOFFSETFROM:-0700
TZOFFSETTO:-0600
TZNAME:MDT
DTSTART:20240310T090000
END:DAYLIGHT
BEGIN:STANDARD
TZOFFSETFROM:-0600
TZOFFSETTO:-0700
TZNAME:MST
DTSTART:20241103T080000
END:STANDARD
BEGIN:DAYLIGHT
TZOFFSETFROM:-0700
TZOFFSETTO:-0600
TZNAME:MDT
DTSTART:20250309T090000
END:DAYLIGHT
BEGIN:STANDARD
TZOFFSETFROM:-0600
TZOFFSETTO:-0700
TZNAME:MST
DTSTART:20251102T080000
END:STANDARD
BEGIN:DAYLIGHT
TZOFFSETFROM:-0700
TZOFFSETTO:-0600
TZNAME:MDT
DTSTART:20260308T090000
END:DAYLIGHT
BEGIN:STANDARD
TZOFFSETFROM:-0600
TZOFFSETTO:-0700
TZNAME:MST
DTSTART:20261101T080000
END:STANDARD
END:VTIMEZONE
BEGIN:VEVENT
DTSTART;TZID=America/Denver:20250820T180000
DTEND;TZID=America/Denver:20250820T200000
DTSTAMP:20260424T113045
CREATED:20250625T212412Z
LAST-MODIFIED:20250625T212746Z
UID:699289-1755712800-1755720000@acepto.ptoffice.io
SUMMARY:Skate City Night
DESCRIPTION:Join us at Skate City on Aug 20th from 6:00 – 8:00 pm
URL:https://acepto.ptoffice.io/event/skate-city-night/
CATEGORIES:Spirit Night
END:VEVENT
BEGIN:VEVENT
DTSTART;TZID=America/Denver:20250808T140000
DTEND;TZID=America/Denver:20250808T160000
DTSTAMP:20260424T113045
CREATED:20250625T211627Z
LAST-MODIFIED:20250625T214609Z
UID:699267-1754661600-1754668800@acepto.ptoffice.io
SUMMARY:End of Summer Social - Aug 8th
DESCRIPTION:Join us on August 8th from 2:00 – 4:00 pm during Teacher Meet & Greet.  \nKona Ice will be available to purchase and get your picture with Marty. 
URL:https://acepto.ptoffice.io/event/end-of-summer-social-aug-8th/
LOCATION:Aspen Crossing Elementary
CATEGORIES:Spirit Night
END:VEVENT
END:VCALENDAR