BEGIN:VCALENDAR
VERSION:2.0
PRODID:-//Aspen Crossing Elementary PTO - ECPv6.15.18//NONSGML v1.0//EN
CALSCALE:GREGORIAN
METHOD:PUBLISH
X-WR-CALNAME:Aspen Crossing Elementary PTO
X-ORIGINAL-URL:https://acepto.ptoffice.io
X-WR-CALDESC:Events for Aspen Crossing Elementary PTO
REFRESH-INTERVAL;VALUE=DURATION:PT1H
X-Robots-Tag:noindex
X-PUBLISHED-TTL:PT1H
BEGIN:VTIMEZONE
TZID:America/Denver
BEGIN:DAYLIGHT
TZOFFSETFROM:-0700
TZOFFSETTO:-0600
TZNAME:MDT
DTSTART:20240310T090000
END:DAYLIGHT
BEGIN:STANDARD
TZOFFSETFROM:-0600
TZOFFSETTO:-0700
TZNAME:MST
DTSTART:20241103T080000
END:STANDARD
BEGIN:DAYLIGHT
TZOFFSETFROM:-0700
TZOFFSETTO:-0600
TZNAME:MDT
DTSTART:20250309T090000
END:DAYLIGHT
BEGIN:STANDARD
TZOFFSETFROM:-0600
TZOFFSETTO:-0700
TZNAME:MST
DTSTART:20251102T080000
END:STANDARD
BEGIN:DAYLIGHT
TZOFFSETFROM:-0700
TZOFFSETTO:-0600
TZNAME:MDT
DTSTART:20260308T090000
END:DAYLIGHT
BEGIN:STANDARD
TZOFFSETFROM:-0600
TZOFFSETTO:-0700
TZNAME:MST
DTSTART:20261101T080000
END:STANDARD
BEGIN:DAYLIGHT
TZOFFSETFROM:-0700
TZOFFSETTO:-0600
TZNAME:MDT
DTSTART:20270314T090000
END:DAYLIGHT
BEGIN:STANDARD
TZOFFSETFROM:-0600
TZOFFSETTO:-0700
TZNAME:MST
DTSTART:20271107T080000
END:STANDARD
END:VTIMEZONE
BEGIN:VEVENT
DTSTART;TZID=America/Denver:20260130T180000
DTEND;TZID=America/Denver:20260130T200000
DTSTAMP:20260424T094003
CREATED:20250625T214514Z
LAST-MODIFIED:20250625T214514Z
UID:699309-1769796000-1769803200@acepto.ptoffice.io
SUMMARY:Bingo Night
DESCRIPTION:Join us for Bingo on January 30th\, from 6:00 PM to 8:00 PM!
URL:https://acepto.ptoffice.io/event/bingo-night-2/
CATEGORIES:Bingo
END:VEVENT
BEGIN:VEVENT
DTSTART;TZID=America/Denver:20251119T180000
DTEND;TZID=America/Denver:20251119T200000
DTSTAMP:20260424T094003
CREATED:20250625T214228Z
LAST-MODIFIED:20250625T214537Z
UID:699305-1763575200-1763582400@acepto.ptoffice.io
SUMMARY:Bingo Night
DESCRIPTION:Join us for Bingo on November 19th from 6:00 to 8:00 PM!
URL:https://acepto.ptoffice.io/event/bingo-night/
LOCATION:Aspen Crossing Elementary
CATEGORIES:Bingo
END:VEVENT
END:VCALENDAR